BEGIN:VCALENDAR
VERSION:2.0
PRODID:-//Solling Blaskapelle Schönhagen - ECPv6.15.20//NONSGML v1.0//EN
CALSCALE:GREGORIAN
METHOD:PUBLISH
X-ORIGINAL-URL:https://solling-blaskapelle.de
X-WR-CALDESC:Veranstaltungen für Solling Blaskapelle Schönhagen
REFRESH-INTERVAL;VALUE=DURATION:PT1H
X-Robots-Tag:noindex
X-PUBLISHED-TTL:PT1H
BEGIN:VTIMEZONE
TZID:Europe/Berlin
BEGIN:DAYLIGHT
TZOFFSETFROM:+0100
TZOFFSETTO:+0200
TZNAME:CEST
DTSTART:20230326T010000
END:DAYLIGHT
BEGIN:STANDARD
TZOFFSETFROM:+0200
TZOFFSETTO:+0100
TZNAME:CET
DTSTART:20231029T010000
END:STANDARD
BEGIN:DAYLIGHT
TZOFFSETFROM:+0100
TZOFFSETTO:+0200
TZNAME:CEST
DTSTART:20240331T010000
END:DAYLIGHT
BEGIN:STANDARD
TZOFFSETFROM:+0200
TZOFFSETTO:+0100
TZNAME:CET
DTSTART:20241027T010000
END:STANDARD
BEGIN:DAYLIGHT
TZOFFSETFROM:+0100
TZOFFSETTO:+0200
TZNAME:CEST
DTSTART:20250330T010000
END:DAYLIGHT
BEGIN:STANDARD
TZOFFSETFROM:+0200
TZOFFSETTO:+0100
TZNAME:CET
DTSTART:20251026T010000
END:STANDARD
END:VTIMEZONE
BEGIN:VEVENT
DTSTART;TZID=Europe/Berlin:20241029T183000
DTEND;TZID=Europe/Berlin:20241029T223000
DTSTAMP:20260421T110203
CREATED:20240926T102240Z
LAST-MODIFIED:20240926T102240Z
UID:510-1730226600-1730241000@solling-blaskapelle.de
SUMMARY:Wursteprobe 2024
DESCRIPTION:
URL:https://solling-blaskapelle.de/termin/wursteprobe-2024/
LOCATION:Hotel Fröhlich Höche\, Amelither Straße 6\, Uslar-Schönhagen\, 37170\, Deutschland
CATEGORIES:interne Veranstaltung
ATTACH;FMTTYPE=image/jpeg:https://solling-blaskapelle.de/wp-content/uploads/2023/02/Wursteprobe_2023.jpg
END:VEVENT
END:VCALENDAR