BEGIN:VCALENDAR
VERSION:2.0
PRODID:-//Solling Blaskapelle Schönhagen - ECPv6.15.20//NONSGML v1.0//EN
CALSCALE:GREGORIAN
METHOD:PUBLISH
X-ORIGINAL-URL:https://solling-blaskapelle.de
X-WR-CALDESC:Veranstaltungen für Solling Blaskapelle Schönhagen
REFRESH-INTERVAL;VALUE=DURATION:PT1H
X-Robots-Tag:noindex
X-PUBLISHED-TTL:PT1H
BEGIN:VTIMEZONE
TZID:Europe/Berlin
BEGIN:DAYLIGHT
TZOFFSETFROM:+0100
TZOFFSETTO:+0200
TZNAME:CEST
DTSTART:20240331T010000
END:DAYLIGHT
BEGIN:STANDARD
TZOFFSETFROM:+0200
TZOFFSETTO:+0100
TZNAME:CET
DTSTART:20241027T010000
END:STANDARD
BEGIN:DAYLIGHT
TZOFFSETFROM:+0100
TZOFFSETTO:+0200
TZNAME:CEST
DTSTART:20250330T010000
END:DAYLIGHT
BEGIN:STANDARD
TZOFFSETFROM:+0200
TZOFFSETTO:+0100
TZNAME:CET
DTSTART:20251026T010000
END:STANDARD
BEGIN:DAYLIGHT
TZOFFSETFROM:+0100
TZOFFSETTO:+0200
TZNAME:CEST
DTSTART:20260329T010000
END:DAYLIGHT
BEGIN:STANDARD
TZOFFSETFROM:+0200
TZOFFSETTO:+0100
TZNAME:CET
DTSTART:20261025T010000
END:STANDARD
END:VTIMEZONE
BEGIN:VEVENT
DTSTART;TZID=Europe/Berlin:20250124T120000
DTEND;TZID=Europe/Berlin:20250126T180000
DTSTAMP:20260421T080934
CREATED:20241112T135903Z
LAST-MODIFIED:20241112T140956Z
UID:557-1737720000-1737914400@solling-blaskapelle.de
SUMMARY:Vereinsfahrt und Auftritt "Grüne Woche" Berlin
DESCRIPTION:Die Grüne Woche ist die internationale Leitmesse für Ernährung\, Landwirtschaft und Gartenbau.\nVom 17. bis 26. Januar 2025 sind täglich wieder zehntausende Besucherinnen und Besucher in den Hallen unterm Funkturm zu Gast. \nEin Besuch der Grünen Woche bietet so viel Abwechslung wie eine Reise um die Welt. Gourmets und Gourmands können sich auf zahlreiche Spezialitäten und touristische Anregungen aus\ndeutschen Bundesländern und Regionen freuen. Wer es exotisch mag\, den erwarten Speisen und die neuesten Foodtrends aus fünf Kontinenten. Gartenfans können sich auf die beliebte Blumenhalle freuen. Im wintergrauen Berlin gibt sie mit ihrem Blütenzauber einen Sneak Peek auf den Frühling. Die Tierhalle kennt kein Alter. In heimischer Bauernhofatmosphäre freuen sich Jung und Alt hier auf den direkten Kontakt mit Kuh\, Pferd\, Schaf und mehr. \nDer Deutsche Bauernverband (DBV) gibt im ErlebnisBauernhof einen Einblick in die moderne Landwirtschaft. Unter dem Motto „Zukunft schmeckt“ erfahren Messegäste von der Bundesvereinigung der Deutschen Ernährungsindustrie (BVE)\, wie die Lebensmittelproduktion der Zukunft aussieht. Weitere informative und geschmackliche Highlights bietet die interaktive Halle des Bundesministeriums für Ernährung und Landwirtschaft sowie die Markthalle mit dem beliebten Streetfoodmarkt. \nAuch wir sind dieses Jahr wieder mit dabei und freuen uns auf euch.
URL:https://solling-blaskapelle.de/termin/vereinsfahrt-und-auftritt-gruene-woche-berlin/
LOCATION:Grüne Woche Berlin
CATEGORIES:Auftritt
ATTACH;FMTTYPE=image/jpeg:https://solling-blaskapelle.de/wp-content/uploads/2024/11/Services-Z7660.jpg
END:VEVENT
END:VCALENDAR