BEGIN:VCALENDAR
VERSION:2.0
PRODID:-//Solling Blaskapelle Schönhagen - ECPv6.15.20//NONSGML v1.0//EN
CALSCALE:GREGORIAN
METHOD:PUBLISH
X-ORIGINAL-URL:https://solling-blaskapelle.de
X-WR-CALDESC:Veranstaltungen für Solling Blaskapelle Schönhagen
REFRESH-INTERVAL;VALUE=DURATION:PT1H
X-Robots-Tag:noindex
X-PUBLISHED-TTL:PT1H
BEGIN:VTIMEZONE
TZID:Europe/Berlin
BEGIN:DAYLIGHT
TZOFFSETFROM:+0100
TZOFFSETTO:+0200
TZNAME:CEST
DTSTART:20240331T010000
END:DAYLIGHT
BEGIN:STANDARD
TZOFFSETFROM:+0200
TZOFFSETTO:+0100
TZNAME:CET
DTSTART:20241027T010000
END:STANDARD
BEGIN:DAYLIGHT
TZOFFSETFROM:+0100
TZOFFSETTO:+0200
TZNAME:CEST
DTSTART:20250330T010000
END:DAYLIGHT
BEGIN:STANDARD
TZOFFSETFROM:+0200
TZOFFSETTO:+0100
TZNAME:CET
DTSTART:20251026T010000
END:STANDARD
BEGIN:DAYLIGHT
TZOFFSETFROM:+0100
TZOFFSETTO:+0200
TZNAME:CEST
DTSTART:20260329T010000
END:DAYLIGHT
BEGIN:STANDARD
TZOFFSETFROM:+0200
TZOFFSETTO:+0100
TZNAME:CET
DTSTART:20261025T010000
END:STANDARD
END:VTIMEZONE
BEGIN:VEVENT
DTSTART;TZID=Europe/Berlin:20250427T120000
DTEND;TZID=Europe/Berlin:20250427T160000
DTSTAMP:20260421T032230
CREATED:20241211T134421Z
LAST-MODIFIED:20241211T134422Z
UID:588-1745755200-1745769600@solling-blaskapelle.de
SUMMARY:Kirschblütenfest Reileifzen
DESCRIPTION:Zum 22. Mal jährt sich das Kirschblütenfest in der Rühler Schweiz mit der Wahl der Kirschblütenkönogin. Seit dem Besuch der japanischen Delegation des Verbands Japanisch-Deutscher Gesellschaften im Jahr 2008\, pflanzt eine japanische Kirschblütenprinzessin zusammen mit dem japanischen Botschafter bzw. dem Generalkonsul aus Hamburg Herrn Shinzuke Toda einen japanischen Kirschbaum. \nNeben dem großen Ritterlager der Grafen von Everstein (http://castrum-everstein.de/termine.html) gibt es viele Stände\, darunter auch eine große Bonsaiausstellung des Bonsaiarbeitskreis Weserbergland:Dieses sind aber nicht die einzigen Highlights. Es gibt das köstliche Spanferkel aus der Trommel\, Burger vom Höhenrind und jede Menge Sorten von Kirschkuchen\, die von den Reileifzern selbst gemacht wurden.
URL:https://solling-blaskapelle.de/termin/kirschbluetenfest-reileifzen/
LOCATION:Reileifzen\, Festwiese\, Lange Straße\, Reileifzen\, 37369
CATEGORIES:Auftritt
ATTACH;FMTTYPE=image/jpeg:https://solling-blaskapelle.de/wp-content/uploads/2024/12/peach-blossoms-7826534_640.jpg
END:VEVENT
END:VCALENDAR