BEGIN:VCALENDAR
VERSION:2.0
PRODID:-//Solling Blaskapelle Schönhagen - ECPv6.15.20//NONSGML v1.0//EN
CALSCALE:GREGORIAN
METHOD:PUBLISH
X-ORIGINAL-URL:https://solling-blaskapelle.de
X-WR-CALDESC:Veranstaltungen für Solling Blaskapelle Schönhagen
REFRESH-INTERVAL;VALUE=DURATION:PT1H
X-Robots-Tag:noindex
X-PUBLISHED-TTL:PT1H
BEGIN:VTIMEZONE
TZID:Europe/Berlin
BEGIN:DAYLIGHT
TZOFFSETFROM:+0100
TZOFFSETTO:+0200
TZNAME:CEST
DTSTART:20240331T010000
END:DAYLIGHT
BEGIN:STANDARD
TZOFFSETFROM:+0200
TZOFFSETTO:+0100
TZNAME:CET
DTSTART:20241027T010000
END:STANDARD
BEGIN:DAYLIGHT
TZOFFSETFROM:+0100
TZOFFSETTO:+0200
TZNAME:CEST
DTSTART:20250330T010000
END:DAYLIGHT
BEGIN:STANDARD
TZOFFSETFROM:+0200
TZOFFSETTO:+0100
TZNAME:CET
DTSTART:20251026T010000
END:STANDARD
BEGIN:DAYLIGHT
TZOFFSETFROM:+0100
TZOFFSETTO:+0200
TZNAME:CEST
DTSTART:20260329T010000
END:DAYLIGHT
BEGIN:STANDARD
TZOFFSETFROM:+0200
TZOFFSETTO:+0100
TZNAME:CET
DTSTART:20261025T010000
END:STANDARD
END:VTIMEZONE
BEGIN:VEVENT
DTSTART;TZID=Europe/Berlin:20250810T120000
DTEND;TZID=Europe/Berlin:20250810T150000
DTSTAMP:20260420T203119
CREATED:20250604T124848Z
LAST-MODIFIED:20250604T130312Z
UID:694-1754827200-1754838000@solling-blaskapelle.de
SUMMARY:105 Jahre MTV Markoldendorf
DESCRIPTION:105 Jahre MTV Markoldendorf – Großes Jubiläumswochenende! \nWo: Bruchtorplatz\, Markoldendorf \nSamstag\, 09. August 2025 \n\n18:30 Uhr: Kommers\n20:30 Uhr: ZeltDisco mit DJ Bill\n\nSonntag\, 10. August 2025 \n\n11:00 Uhr: Zeltgottesdienst\nAnschließend:\n\nKatervesper\nAuftritt der Solling Blaskapelle (direkt nach dem Gottesdienst)\nTurnvorführungen\nKaffee- und Kuchentafel\nAfter Show Party mit DJ\n\n\n\nSeien Sie dabei und feiern Sie mit uns 105 Jahre MTV Markoldendorf!
URL:https://solling-blaskapelle.de/termin/105-jahre-mtv-markoldendorf/
LOCATION:Dassel/Markoldendorf\, Bruchtorplatz\, Dassel\, Markoldendorf\, 37586\, Germany
CATEGORIES:Auftritt
ATTACH;FMTTYPE=image/jpeg:https://solling-blaskapelle.de/wp-content/uploads/2025/06/Plakat.jpg
END:VEVENT
END:VCALENDAR