BEGIN:VCALENDAR
VERSION:2.0
PRODID:-//Solling Blaskapelle Schönhagen - ECPv6.15.20//NONSGML v1.0//EN
CALSCALE:GREGORIAN
METHOD:PUBLISH
X-ORIGINAL-URL:https://solling-blaskapelle.de
X-WR-CALDESC:Veranstaltungen für Solling Blaskapelle Schönhagen
REFRESH-INTERVAL;VALUE=DURATION:PT1H
X-Robots-Tag:noindex
X-PUBLISHED-TTL:PT1H
BEGIN:VTIMEZONE
TZID:Europe/Berlin
BEGIN:DAYLIGHT
TZOFFSETFROM:+0100
TZOFFSETTO:+0200
TZNAME:CEST
DTSTART:20240331T010000
END:DAYLIGHT
BEGIN:STANDARD
TZOFFSETFROM:+0200
TZOFFSETTO:+0100
TZNAME:CET
DTSTART:20241027T010000
END:STANDARD
BEGIN:DAYLIGHT
TZOFFSETFROM:+0100
TZOFFSETTO:+0200
TZNAME:CEST
DTSTART:20250330T010000
END:DAYLIGHT
BEGIN:STANDARD
TZOFFSETFROM:+0200
TZOFFSETTO:+0100
TZNAME:CET
DTSTART:20251026T010000
END:STANDARD
BEGIN:DAYLIGHT
TZOFFSETFROM:+0100
TZOFFSETTO:+0200
TZNAME:CEST
DTSTART:20260329T010000
END:DAYLIGHT
BEGIN:STANDARD
TZOFFSETFROM:+0200
TZOFFSETTO:+0100
TZNAME:CET
DTSTART:20261025T010000
END:STANDARD
END:VTIMEZONE
BEGIN:VEVENT
DTSTART;TZID=Europe/Berlin:20250823T180000
DTEND;TZID=Europe/Berlin:20250823T230000
DTSTAMP:20260420T203122
CREATED:20250308T184634Z
LAST-MODIFIED:20250308T185419Z
UID:672-1755972000-1755990000@solling-blaskapelle.de
SUMMARY:Viehkasse Sohlingen Jubiläum Dämmerschoppen
DESCRIPTION:
URL:https://solling-blaskapelle.de/termin/viehkasse-sohlingen-jubilaeum-daemmerschoppen/
LOCATION:DHG Sohlingen\, Schulstraße 16\, Uslar Sohlingen\, 37170\, Germany
CATEGORIES:Auftritt
ATTACH;FMTTYPE=image/jpeg:https://solling-blaskapelle.de/wp-content/uploads/2024/03/Pekermarkt.jpg
END:VEVENT
END:VCALENDAR