BEGIN:VCALENDAR
VERSION:2.0
PRODID:-//Solling Blaskapelle Schönhagen - ECPv6.15.20//NONSGML v1.0//EN
CALSCALE:GREGORIAN
METHOD:PUBLISH
X-WR-CALNAME:Solling Blaskapelle Schönhagen
X-ORIGINAL-URL:https://solling-blaskapelle.de
X-WR-CALDESC:Veranstaltungen für Solling Blaskapelle Schönhagen
REFRESH-INTERVAL;VALUE=DURATION:PT1H
X-Robots-Tag:noindex
X-PUBLISHED-TTL:PT1H
BEGIN:VTIMEZONE
TZID:Europe/Berlin
BEGIN:DAYLIGHT
TZOFFSETFROM:+0100
TZOFFSETTO:+0200
TZNAME:CEST
DTSTART:20240331T010000
END:DAYLIGHT
BEGIN:STANDARD
TZOFFSETFROM:+0200
TZOFFSETTO:+0100
TZNAME:CET
DTSTART:20241027T010000
END:STANDARD
BEGIN:DAYLIGHT
TZOFFSETFROM:+0100
TZOFFSETTO:+0200
TZNAME:CEST
DTSTART:20250330T010000
END:DAYLIGHT
BEGIN:STANDARD
TZOFFSETFROM:+0200
TZOFFSETTO:+0100
TZNAME:CET
DTSTART:20251026T010000
END:STANDARD
BEGIN:DAYLIGHT
TZOFFSETFROM:+0100
TZOFFSETTO:+0200
TZNAME:CEST
DTSTART:20260329T010000
END:DAYLIGHT
BEGIN:STANDARD
TZOFFSETFROM:+0200
TZOFFSETTO:+0100
TZNAME:CET
DTSTART:20261025T010000
END:STANDARD
END:VTIMEZONE
BEGIN:VEVENT
DTSTART;TZID=Europe/Berlin:20251207T150000
DTEND;TZID=Europe/Berlin:20251207T170000
DTSTAMP:20260420T124301
CREATED:20251120T133241Z
LAST-MODIFIED:20260114T084845Z
UID:741-1765119600-1765126800@solling-blaskapelle.de
SUMMARY:Adventsnachmittag in Silberborn
DESCRIPTION:Der Solling- und Heimatverein Silberborn ist Veranstalter einer Musikveranstaltung\, die am Sonntag\, 7. Dezember\, im weihnachtlich geschmückten Dorfgemeinschaftshaus in Silberborn\, Kurgarten 1\, stattfindet. Der Beginn der Veranstaltung ist um 15 Uhr. Der Eintritt ist frei. \nDie Solling-Blaskapelle Schönhagen wird mit einem zweistündigen Konzertnachmittag für beste musikalische Unterhaltung sorgen. Neben moderner und konzertanter Blasmusik werden die Schönhagener Musiker*innen auch mit Advents- und Weihnachtsliedern aufwarten.
URL:https://solling-blaskapelle.de/termin/adventsnachmittag-in-silberborn/
LOCATION:DGH Silberborn\, Am Kurgarten 1\, Silberborn\, 37603
CATEGORIES:Auftritt
ATTACH;FMTTYPE=image/jpeg:https://solling-blaskapelle.de/wp-content/uploads/2023/02/instrument-4118588-scaled.jpg
END:VEVENT
END:VCALENDAR