BEGIN:VCALENDAR
VERSION:2.0
PRODID:-//Solling Blaskapelle Schönhagen - ECPv6.15.20//NONSGML v1.0//EN
CALSCALE:GREGORIAN
METHOD:PUBLISH
X-ORIGINAL-URL:https://solling-blaskapelle.de
X-WR-CALDESC:Veranstaltungen für Solling Blaskapelle Schönhagen
REFRESH-INTERVAL;VALUE=DURATION:PT1H
X-Robots-Tag:noindex
X-PUBLISHED-TTL:PT1H
BEGIN:VTIMEZONE
TZID:Europe/Berlin
BEGIN:DAYLIGHT
TZOFFSETFROM:+0100
TZOFFSETTO:+0200
TZNAME:CEST
DTSTART:20250330T010000
END:DAYLIGHT
BEGIN:STANDARD
TZOFFSETFROM:+0200
TZOFFSETTO:+0100
TZNAME:CET
DTSTART:20251026T010000
END:STANDARD
BEGIN:DAYLIGHT
TZOFFSETFROM:+0100
TZOFFSETTO:+0200
TZNAME:CEST
DTSTART:20260329T010000
END:DAYLIGHT
BEGIN:STANDARD
TZOFFSETFROM:+0200
TZOFFSETTO:+0100
TZNAME:CET
DTSTART:20261025T010000
END:STANDARD
BEGIN:DAYLIGHT
TZOFFSETFROM:+0100
TZOFFSETTO:+0200
TZNAME:CEST
DTSTART:20270328T010000
END:DAYLIGHT
BEGIN:STANDARD
TZOFFSETFROM:+0200
TZOFFSETTO:+0100
TZNAME:CET
DTSTART:20271031T010000
END:STANDARD
END:VTIMEZONE
BEGIN:VEVENT
DTSTART;TZID=Europe/Berlin:20261115T100000
DTEND;TZID=Europe/Berlin:20261115T120000
DTSTAMP:20260420T154412
CREATED:20260114T105933Z
LAST-MODIFIED:20260114T105933Z
UID:767-1794736800-1794744000@solling-blaskapelle.de
SUMMARY:Volkstrauertag
DESCRIPTION:Wir ehren unsere Verstorbene am Ehrenmal der Kirche in Schönhagen. \nDer Volkstrauertag ist in Deutschland ein staatlicher Gedenktag und gehört zu den sogenannten stillen Tagen. Der Gedenktag wird seit 1952 zwei Sonntage vor dem ersten Adventssonntag begangen. Eine Zeremonie im Deutschen Bundestag erinnert an die Opfer von Gewalt und Krieg aller Nationen.
URL:https://solling-blaskapelle.de/termin/volkstrauertag-2/
LOCATION:Kirche Schönhagen
CATEGORIES:Auftritt
ATTACH;FMTTYPE=image/jpeg:https://solling-blaskapelle.de/wp-content/uploads/2026/01/graves-2256219_1280.jpg
END:VEVENT
END:VCALENDAR