BEGIN:VCALENDAR
VERSION:2.0
PRODID:-//Solling Blaskapelle Schönhagen - ECPv6.15.20//NONSGML v1.0//EN
CALSCALE:GREGORIAN
METHOD:PUBLISH
X-WR-CALNAME:Solling Blaskapelle Schönhagen
X-ORIGINAL-URL:https://solling-blaskapelle.de
X-WR-CALDESC:Veranstaltungen für Solling Blaskapelle Schönhagen
REFRESH-INTERVAL;VALUE=DURATION:PT1H
X-Robots-Tag:noindex
X-PUBLISHED-TTL:PT1H
BEGIN:VTIMEZONE
TZID:Europe/Berlin
BEGIN:DAYLIGHT
TZOFFSETFROM:+0100
TZOFFSETTO:+0200
TZNAME:CEST
DTSTART:20220327T010000
END:DAYLIGHT
BEGIN:STANDARD
TZOFFSETFROM:+0200
TZOFFSETTO:+0100
TZNAME:CET
DTSTART:20221030T010000
END:STANDARD
BEGIN:DAYLIGHT
TZOFFSETFROM:+0100
TZOFFSETTO:+0200
TZNAME:CEST
DTSTART:20230326T010000
END:DAYLIGHT
BEGIN:STANDARD
TZOFFSETFROM:+0200
TZOFFSETTO:+0100
TZNAME:CET
DTSTART:20231029T010000
END:STANDARD
BEGIN:DAYLIGHT
TZOFFSETFROM:+0100
TZOFFSETTO:+0200
TZNAME:CEST
DTSTART:20240331T010000
END:DAYLIGHT
BEGIN:STANDARD
TZOFFSETFROM:+0200
TZOFFSETTO:+0100
TZNAME:CET
DTSTART:20241027T010000
END:STANDARD
END:VTIMEZONE
BEGIN:VEVENT
DTSTART;TZID=Europe/Berlin:20230502T193000
DTEND;TZID=Europe/Berlin:20230502T213000
DTSTAMP:20260422T142552
CREATED:20230420T125131Z
LAST-MODIFIED:20230420T125131Z
UID:303-1683055800-1683063000@solling-blaskapelle.de
SUMMARY:Große Probe
DESCRIPTION:
URL:https://solling-blaskapelle.de/termin/grosse-probe-4/
LOCATION:Übungsraum\, Amelither Straße 6\, Uslar-Schönhagen\, 37170
CATEGORIES:Probe
END:VEVENT
BEGIN:VEVENT
DTSTART;TZID=Europe/Berlin:20230509T193000
DTEND;TZID=Europe/Berlin:20230509T213000
DTSTAMP:20260422T142552
CREATED:20230420T125208Z
LAST-MODIFIED:20230420T125208Z
UID:305-1683660600-1683667800@solling-blaskapelle.de
SUMMARY:Große Probe
DESCRIPTION:
URL:https://solling-blaskapelle.de/termin/grosse-probe-5/
LOCATION:Übungsraum\, Amelither Straße 6\, Uslar-Schönhagen\, 37170
CATEGORIES:Probe
END:VEVENT
BEGIN:VEVENT
DTSTART;TZID=Europe/Berlin:20230516T193000
DTEND;TZID=Europe/Berlin:20230516T213000
DTSTAMP:20260422T142552
CREATED:20230420T131057Z
LAST-MODIFIED:20230420T131057Z
UID:309-1684265400-1684272600@solling-blaskapelle.de
SUMMARY:Große Probe
DESCRIPTION:
URL:https://solling-blaskapelle.de/termin/grosse-probe-6/
LOCATION:Übungsraum\, Amelither Straße 6\, Uslar-Schönhagen\, 37170
CATEGORIES:Probe
END:VEVENT
BEGIN:VEVENT
DTSTART;TZID=Europe/Berlin:20230520T170000
DTEND;TZID=Europe/Berlin:20230520T230000
DTSTAMP:20260422T142552
CREATED:20230420T124749Z
LAST-MODIFIED:20230420T130914Z
UID:296-1684602000-1684623600@solling-blaskapelle.de
SUMMARY:Berge\, Bier und Blasmusik
DESCRIPTION:Am Samstag\, 20. Mai 2023 werden wir gemeinsam mit den Hochstift Musikanten\, dem Europameister der Böhmisch-Mährischen Blasmusik 2022\, in Neuhaus im Haus des Gastes einen musikalischen Abend bei schöner Blasmusik veranstalten. \nWeitere Informationen hier klicken
URL:https://solling-blaskapelle.de/termin/berge-bier-und-blasmusik/
LOCATION:Neuhaus im Haus des Gastes\, Lindenstraße 8\, Holzminden Neuhaus\, 37603\, Deutschland
CATEGORIES:Auftritt
ATTACH;FMTTYPE=image/jpeg:https://solling-blaskapelle.de/wp-content/uploads/2023/04/Berge_Bier_Blasmusik.jpg
END:VEVENT
BEGIN:VEVENT
DTSTART;TZID=Europe/Berlin:20230523T193000
DTEND;TZID=Europe/Berlin:20230523T213000
DTSTAMP:20260422T142552
CREATED:20230420T131150Z
LAST-MODIFIED:20230420T131150Z
UID:311-1684870200-1684877400@solling-blaskapelle.de
SUMMARY:Große Probe
DESCRIPTION:
URL:https://solling-blaskapelle.de/termin/grosse-probe-7/
LOCATION:Übungsraum\, Amelither Straße 6\, Uslar-Schönhagen\, 37170
CATEGORIES:Probe
END:VEVENT
END:VCALENDAR