BEGIN:VCALENDAR
VERSION:2.0
PRODID:-//Solling Blaskapelle Schönhagen - ECPv6.15.20//NONSGML v1.0//EN
CALSCALE:GREGORIAN
METHOD:PUBLISH
X-WR-CALNAME:Solling Blaskapelle Schönhagen
X-ORIGINAL-URL:https://solling-blaskapelle.de
X-WR-CALDESC:Veranstaltungen für Solling Blaskapelle Schönhagen
REFRESH-INTERVAL;VALUE=DURATION:PT1H
X-Robots-Tag:noindex
X-PUBLISHED-TTL:PT1H
BEGIN:VTIMEZONE
TZID:Europe/Berlin
BEGIN:DAYLIGHT
TZOFFSETFROM:+0100
TZOFFSETTO:+0200
TZNAME:CEST
DTSTART:20220327T010000
END:DAYLIGHT
BEGIN:STANDARD
TZOFFSETFROM:+0200
TZOFFSETTO:+0100
TZNAME:CET
DTSTART:20221030T010000
END:STANDARD
BEGIN:DAYLIGHT
TZOFFSETFROM:+0100
TZOFFSETTO:+0200
TZNAME:CEST
DTSTART:20230326T010000
END:DAYLIGHT
BEGIN:STANDARD
TZOFFSETFROM:+0200
TZOFFSETTO:+0100
TZNAME:CET
DTSTART:20231029T010000
END:STANDARD
BEGIN:DAYLIGHT
TZOFFSETFROM:+0100
TZOFFSETTO:+0200
TZNAME:CEST
DTSTART:20240331T010000
END:DAYLIGHT
BEGIN:STANDARD
TZOFFSETFROM:+0200
TZOFFSETTO:+0100
TZNAME:CET
DTSTART:20241027T010000
END:STANDARD
END:VTIMEZONE
BEGIN:VEVENT
DTSTART;VALUE=DATE:20230616
DTEND;VALUE=DATE:20230619
DTSTAMP:20260422T125226
CREATED:20230420T131410Z
LAST-MODIFIED:20230420T131720Z
UID:313-1686873600-1687132799@solling-blaskapelle.de
SUMMARY:Vereinsfahrt Neustadt a.d. Weinstrasse
DESCRIPTION:Wir machen uns auf zu einer Vereinsfahrt nach Neustadt an der Weinstrasse. Abfahrt mit dem Bus wird um ca. 14 Uhr sein. Vor Ort verbringen wir schöne Stunden zusammen und am Sonntag geben wir ein kleines Standkonzert\, bevor es dann gegen 15 Uhr wieder zurück nach Schönhagen geht.
URL:https://solling-blaskapelle.de/termin/vereinsfahrt-neustadt-a-d-weinstrasse/
CATEGORIES:interne Veranstaltung
END:VEVENT
END:VCALENDAR