BEGIN:VCALENDAR
VERSION:2.0
PRODID:-//Solling Blaskapelle Schönhagen - ECPv6.15.20//NONSGML v1.0//EN
CALSCALE:GREGORIAN
METHOD:PUBLISH
X-ORIGINAL-URL:https://solling-blaskapelle.de
X-WR-CALDESC:Veranstaltungen für Solling Blaskapelle Schönhagen
REFRESH-INTERVAL;VALUE=DURATION:PT1H
X-Robots-Tag:noindex
X-PUBLISHED-TTL:PT1H
BEGIN:VTIMEZONE
TZID:Europe/Berlin
BEGIN:DAYLIGHT
TZOFFSETFROM:+0100
TZOFFSETTO:+0200
TZNAME:CEST
DTSTART:20220327T010000
END:DAYLIGHT
BEGIN:STANDARD
TZOFFSETFROM:+0200
TZOFFSETTO:+0100
TZNAME:CET
DTSTART:20221030T010000
END:STANDARD
BEGIN:DAYLIGHT
TZOFFSETFROM:+0100
TZOFFSETTO:+0200
TZNAME:CEST
DTSTART:20230326T010000
END:DAYLIGHT
BEGIN:STANDARD
TZOFFSETFROM:+0200
TZOFFSETTO:+0100
TZNAME:CET
DTSTART:20231029T010000
END:STANDARD
BEGIN:DAYLIGHT
TZOFFSETFROM:+0100
TZOFFSETTO:+0200
TZNAME:CEST
DTSTART:20240331T010000
END:DAYLIGHT
BEGIN:STANDARD
TZOFFSETFROM:+0200
TZOFFSETTO:+0100
TZNAME:CET
DTSTART:20241027T010000
END:STANDARD
END:VTIMEZONE
BEGIN:VEVENT
DTSTART;TZID=Europe/Berlin:20230903T103000
DTEND;TZID=Europe/Berlin:20230903T133000
DTSTAMP:20260422T084543
CREATED:20230420T132006Z
LAST-MODIFIED:20230901T103755Z
UID:365-1693737000-1693747800@solling-blaskapelle.de
SUMMARY:Jubiläum Jugendfeuerwehr Silberborn
DESCRIPTION:
URL:https://solling-blaskapelle.de/termin/katerfruehstueck-tsv-holenberg-2/
CATEGORIES:Auftritt
END:VEVENT
BEGIN:VEVENT
DTSTART;TZID=Europe/Berlin:20230905T193000
DTEND;TZID=Europe/Berlin:20230905T213000
DTSTAMP:20260422T084543
CREATED:20230901T104026Z
LAST-MODIFIED:20230901T104107Z
UID:371-1693942200-1693949400@solling-blaskapelle.de
SUMMARY:Große Probe
DESCRIPTION:
URL:https://solling-blaskapelle.de/termin/grosse-probe-6-2/
LOCATION:Übungsraum\, Amelither Straße 6\, Uslar-Schönhagen\, 37170
CATEGORIES:Probe
END:VEVENT
BEGIN:VEVENT
DTSTART;TZID=Europe/Berlin:20230910T110000
DTEND;TZID=Europe/Berlin:20230910T123000
DTSTAMP:20260422T084543
CREATED:20230901T103852Z
LAST-MODIFIED:20230901T103852Z
UID:369-1694343600-1694349000@solling-blaskapelle.de
SUMMARY:Pekermarkt Uslar
DESCRIPTION:
URL:https://solling-blaskapelle.de/termin/pekermarkt-uslar/
CATEGORIES:Auftritt
END:VEVENT
BEGIN:VEVENT
DTSTART;TZID=Europe/Berlin:20230924T110000
DTEND;TZID=Europe/Berlin:20230924T140000
DTSTAMP:20260422T084543
CREATED:20230420T132006Z
LAST-MODIFIED:20230914T103308Z
UID:317-1695553200-1695564000@solling-blaskapelle.de
SUMMARY:Katerfrühstück TSV Holenberg
DESCRIPTION:
URL:https://solling-blaskapelle.de/termin/katerfruehstueck-tsv-holenberg/
CATEGORIES:Auftritt
END:VEVENT
END:VCALENDAR