BEGIN:VCALENDAR
VERSION:2.0
PRODID:-//Solling Blaskapelle Schönhagen - ECPv6.15.20//NONSGML v1.0//EN
CALSCALE:GREGORIAN
METHOD:PUBLISH
X-WR-CALNAME:Solling Blaskapelle Schönhagen
X-ORIGINAL-URL:https://solling-blaskapelle.de
X-WR-CALDESC:Veranstaltungen für Solling Blaskapelle Schönhagen
REFRESH-INTERVAL;VALUE=DURATION:PT1H
X-Robots-Tag:noindex
X-PUBLISHED-TTL:PT1H
BEGIN:VTIMEZONE
TZID:Europe/Berlin
BEGIN:DAYLIGHT
TZOFFSETFROM:+0100
TZOFFSETTO:+0200
TZNAME:CEST
DTSTART:20230326T010000
END:DAYLIGHT
BEGIN:STANDARD
TZOFFSETFROM:+0200
TZOFFSETTO:+0100
TZNAME:CET
DTSTART:20231029T010000
END:STANDARD
BEGIN:DAYLIGHT
TZOFFSETFROM:+0100
TZOFFSETTO:+0200
TZNAME:CEST
DTSTART:20240331T010000
END:DAYLIGHT
BEGIN:STANDARD
TZOFFSETFROM:+0200
TZOFFSETTO:+0100
TZNAME:CET
DTSTART:20241027T010000
END:STANDARD
BEGIN:DAYLIGHT
TZOFFSETFROM:+0100
TZOFFSETTO:+0200
TZNAME:CEST
DTSTART:20250330T010000
END:DAYLIGHT
BEGIN:STANDARD
TZOFFSETFROM:+0200
TZOFFSETTO:+0100
TZNAME:CET
DTSTART:20251026T010000
END:STANDARD
END:VTIMEZONE
BEGIN:VEVENT
DTSTART;TZID=Europe/Berlin:20240409T193000
DTEND;TZID=Europe/Berlin:20240409T213000
DTSTAMP:20260421T203422
CREATED:20240328T094312Z
LAST-MODIFIED:20240328T094427Z
UID:375-1712691000-1712698200@solling-blaskapelle.de
SUMMARY:Große Probe
DESCRIPTION:
URL:https://solling-blaskapelle.de/termin/grosse-probe-6-2-2/
LOCATION:Übungsraum\, Amelither Straße 6\, Uslar-Schönhagen\, 37170
CATEGORIES:Probe
END:VEVENT
BEGIN:VEVENT
DTSTART;TZID=Europe/Berlin:20240414T133000
DTEND;TZID=Europe/Berlin:20240414T153000
DTSTAMP:20260421T203422
CREATED:20240403T132345Z
LAST-MODIFIED:20240403T132544Z
UID:434-1713101400-1713108600@solling-blaskapelle.de
SUMMARY:Waldmarkt im ErlebnisWald
DESCRIPTION:Zahlreiche Anbieter mit verschiedenen Produkten\, wie Handarbeiten\, Gartenpflanzen\, Geschenkartikeln und regionale Produkten laden zum Stöbern und Schlendern ein. Um 13 Uhr wird traditionell der Baum des Jahres gepflanzt. Schwindelfreie Abenteurer bekommen im Rahmen einer Aktion der Schattenspringer die Möglichkeit\, sich von dem 40 Meter hohen Klimaturm abzuseilen. Verschiedene Kindermitmachaktionen unterhalten die kleinsten Besucher.\nDas Baumhaushotel Solling lädt dazu ein\, den Baumhäusern einen Besuch abzustatten und einen Blick ins Innere zu werfen. \nEin weiterer beliebter Programmpunkt ist die Versteigerung von Brennholz durch die Niedersächsischen Landesforsten ab 14 Uhr.\nDarüber hinaus hält der Markt kulinarisch einiges bereit. Von Kaffee und Kuchen\, über Gegrilltes bis hin zu Räucherfisch ist für etwas dabei.
URL:https://solling-blaskapelle.de/termin/waldmarkt-im-erlebniswald/
LOCATION:ErlebnisWals Schönhagen\, In d. Loh 1\, Uslar\, 37170\, Deutschland
CATEGORIES:Auftritt
ATTACH;FMTTYPE=image/jpeg:https://solling-blaskapelle.de/wp-content/uploads/2024/04/Waldmarkt_Schomburg.jpg
END:VEVENT
BEGIN:VEVENT
DTSTART;TZID=Europe/Berlin:20240416T193000
DTEND;TZID=Europe/Berlin:20240416T213000
DTSTAMP:20260421T203422
CREATED:20240328T094534Z
LAST-MODIFIED:20240328T094623Z
UID:378-1713295800-1713303000@solling-blaskapelle.de
SUMMARY:Große Probe
DESCRIPTION:
URL:https://solling-blaskapelle.de/termin/grosse-probe-6-2-2-2/
LOCATION:Übungsraum\, Amelither Straße 6\, Uslar-Schönhagen\, 37170
CATEGORIES:Probe
END:VEVENT
BEGIN:VEVENT
DTSTART;TZID=Europe/Berlin:20240423T193000
DTEND;TZID=Europe/Berlin:20240423T213000
DTSTAMP:20260421T203422
CREATED:20240328T141100Z
LAST-MODIFIED:20240328T141140Z
UID:394-1713900600-1713907800@solling-blaskapelle.de
SUMMARY:Große Probe
DESCRIPTION:
URL:https://solling-blaskapelle.de/termin/grosse-probe-6-2-2-2-2/
LOCATION:Übungsraum\, Amelither Straße 6\, Uslar-Schönhagen\, 37170
CATEGORIES:Probe
END:VEVENT
BEGIN:VEVENT
DTSTART;TZID=Europe/Berlin:20240430T193000
DTEND;TZID=Europe/Berlin:20240430T213000
DTSTAMP:20260421T203422
CREATED:20240429T121404Z
LAST-MODIFIED:20240429T121456Z
UID:442-1714505400-1714512600@solling-blaskapelle.de
SUMMARY:Große Probe
DESCRIPTION:
URL:https://solling-blaskapelle.de/termin/grosse-probe-6-2-2-2-2-2/
LOCATION:Übungsraum\, Amelither Straße 6\, Uslar-Schönhagen\, 37170
CATEGORIES:Probe
END:VEVENT
END:VCALENDAR