BEGIN:VCALENDAR
VERSION:2.0
PRODID:-//Solling Blaskapelle Schönhagen - ECPv6.15.20//NONSGML v1.0//EN
CALSCALE:GREGORIAN
METHOD:PUBLISH
X-WR-CALNAME:Solling Blaskapelle Schönhagen
X-ORIGINAL-URL:https://solling-blaskapelle.de
X-WR-CALDESC:Veranstaltungen für Solling Blaskapelle Schönhagen
REFRESH-INTERVAL;VALUE=DURATION:PT1H
X-Robots-Tag:noindex
X-PUBLISHED-TTL:PT1H
BEGIN:VTIMEZONE
TZID:Europe/Berlin
BEGIN:DAYLIGHT
TZOFFSETFROM:+0100
TZOFFSETTO:+0200
TZNAME:CEST
DTSTART:20230326T010000
END:DAYLIGHT
BEGIN:STANDARD
TZOFFSETFROM:+0200
TZOFFSETTO:+0100
TZNAME:CET
DTSTART:20231029T010000
END:STANDARD
BEGIN:DAYLIGHT
TZOFFSETFROM:+0100
TZOFFSETTO:+0200
TZNAME:CEST
DTSTART:20240331T010000
END:DAYLIGHT
BEGIN:STANDARD
TZOFFSETFROM:+0200
TZOFFSETTO:+0100
TZNAME:CET
DTSTART:20241027T010000
END:STANDARD
BEGIN:DAYLIGHT
TZOFFSETFROM:+0100
TZOFFSETTO:+0200
TZNAME:CEST
DTSTART:20250330T010000
END:DAYLIGHT
BEGIN:STANDARD
TZOFFSETFROM:+0200
TZOFFSETTO:+0100
TZNAME:CET
DTSTART:20251026T010000
END:STANDARD
END:VTIMEZONE
BEGIN:VEVENT
DTSTART;TZID=Europe/Berlin:20240806T193000
DTEND;TZID=Europe/Berlin:20240806T213000
DTSTAMP:20260421T135508
CREATED:20240729T072048Z
LAST-MODIFIED:20240729T072124Z
UID:492-1722972600-1722979800@solling-blaskapelle.de
SUMMARY:Große Probe
DESCRIPTION:
URL:https://solling-blaskapelle.de/termin/grosse-probe-6-2-2-2-2-2-2-2-2-2-2-2-2-2-2-2-2-2/
LOCATION:Übungsraum\, Amelither Straße 6\, Uslar-Schönhagen\, 37170
CATEGORIES:Probe
END:VEVENT
BEGIN:VEVENT
DTSTART;TZID=Europe/Berlin:20240813T193000
DTEND;TZID=Europe/Berlin:20240813T213000
DTSTAMP:20260421T135508
CREATED:20240807T104116Z
LAST-MODIFIED:20240807T104145Z
UID:495-1723577400-1723584600@solling-blaskapelle.de
SUMMARY:Große Probe
DESCRIPTION:
URL:https://solling-blaskapelle.de/termin/grosse-probe-6-2-2-2-2-2-2-2-2-2-2-2-2-2-2-2-2-2-2/
LOCATION:Übungsraum\, Amelither Straße 6\, Uslar-Schönhagen\, 37170
CATEGORIES:Probe
END:VEVENT
BEGIN:VEVENT
DTSTART;TZID=Europe/Berlin:20240820T193000
DTEND;TZID=Europe/Berlin:20240820T213000
DTSTAMP:20260421T135508
CREATED:20240807T104206Z
LAST-MODIFIED:20240807T104436Z
UID:497-1724182200-1724189400@solling-blaskapelle.de
SUMMARY:Große Probe
DESCRIPTION:
URL:https://solling-blaskapelle.de/termin/grosse-probe-6-2-2-2-2-2-2-2-2-2-2-2-2-2-2-2-2-2-2-2/
LOCATION:Übungsraum\, Amelither Straße 6\, Uslar-Schönhagen\, 37170
CATEGORIES:Probe
END:VEVENT
BEGIN:VEVENT
DTSTART;TZID=Europe/Berlin:20240824T180000
DTEND;TZID=Europe/Berlin:20240824T233000
DTSTAMP:20260421T135508
CREATED:20240328T131046Z
LAST-MODIFIED:20240328T141646Z
UID:381-1724522400-1724542200@solling-blaskapelle.de
SUMMARY:Berge\, Bier und Blasmusik 2024
DESCRIPTION:Am Samstag\, 24. August 2024 werden wir wie im letzte Jahr einen musikalischen Abend bei schöner Blasmusik veranstalten. \nWeitere Informationen geben wir noch bekannt.
URL:https://solling-blaskapelle.de/termin/berge-bier-und-blasmusik-2/
LOCATION:Neuhaus im Haus des Gastes\, Lindenstraße 8\, Holzminden Neuhaus\, 37603\, Deutschland
CATEGORIES:Auftritt
ATTACH;FMTTYPE=image/jpeg:https://solling-blaskapelle.de/wp-content/uploads/2024/03/Berge_Bier_Blasmusik-1-e1711635379412.jpg
END:VEVENT
BEGIN:VEVENT
DTSTART;TZID=Europe/Berlin:20240825T110000
DTEND;TZID=Europe/Berlin:20240825T150000
DTSTAMP:20260421T135508
CREATED:20240328T140940Z
LAST-MODIFIED:20240328T140940Z
UID:391-1724583600-1724598000@solling-blaskapelle.de
SUMMARY:Wandertag Neuhaus
DESCRIPTION:
URL:https://solling-blaskapelle.de/termin/wandertag-neuhaus/
LOCATION:Neuhaus im Haus des Gastes\, Lindenstraße 8\, Holzminden Neuhaus\, 37603\, Deutschland
CATEGORIES:Auftritt
ATTACH;FMTTYPE=image/jpeg:https://solling-blaskapelle.de/wp-content/uploads/2024/03/Wandern.jpg
END:VEVENT
BEGIN:VEVENT
DTSTART;TZID=Europe/Berlin:20240827T193000
DTEND;TZID=Europe/Berlin:20240827T213000
DTSTAMP:20260421T135508
CREATED:20240807T104236Z
LAST-MODIFIED:20240807T104500Z
UID:499-1724787000-1724794200@solling-blaskapelle.de
SUMMARY:Große Probe
DESCRIPTION:
URL:https://solling-blaskapelle.de/termin/grosse-probe-6-2-2-2-2-2-2-2-2-2-2-2-2-2-2-2-2-2-2-2-2/
LOCATION:Übungsraum\, Amelither Straße 6\, Uslar-Schönhagen\, 37170
CATEGORIES:Probe
END:VEVENT
END:VCALENDAR