BEGIN:VCALENDAR
VERSION:2.0
PRODID:-//Solling Blaskapelle Schönhagen - ECPv6.15.20//NONSGML v1.0//EN
CALSCALE:GREGORIAN
METHOD:PUBLISH
X-ORIGINAL-URL:https://solling-blaskapelle.de
X-WR-CALDESC:Veranstaltungen für Solling Blaskapelle Schönhagen
REFRESH-INTERVAL;VALUE=DURATION:PT1H
X-Robots-Tag:noindex
X-PUBLISHED-TTL:PT1H
BEGIN:VTIMEZONE
TZID:Europe/Berlin
BEGIN:DAYLIGHT
TZOFFSETFROM:+0100
TZOFFSETTO:+0200
TZNAME:CEST
DTSTART:20230326T010000
END:DAYLIGHT
BEGIN:STANDARD
TZOFFSETFROM:+0200
TZOFFSETTO:+0100
TZNAME:CET
DTSTART:20231029T010000
END:STANDARD
BEGIN:DAYLIGHT
TZOFFSETFROM:+0100
TZOFFSETTO:+0200
TZNAME:CEST
DTSTART:20240331T010000
END:DAYLIGHT
BEGIN:STANDARD
TZOFFSETFROM:+0200
TZOFFSETTO:+0100
TZNAME:CET
DTSTART:20241027T010000
END:STANDARD
BEGIN:DAYLIGHT
TZOFFSETFROM:+0100
TZOFFSETTO:+0200
TZNAME:CEST
DTSTART:20250330T010000
END:DAYLIGHT
BEGIN:STANDARD
TZOFFSETFROM:+0200
TZOFFSETTO:+0100
TZNAME:CET
DTSTART:20251026T010000
END:STANDARD
END:VTIMEZONE
BEGIN:VEVENT
DTSTART;TZID=Europe/Berlin:20241105T193000
DTEND;TZID=Europe/Berlin:20241105T213000
DTSTAMP:20260421T093741
CREATED:20240926T102815Z
LAST-MODIFIED:20240926T102902Z
UID:521-1730835000-1730842200@solling-blaskapelle.de
SUMMARY:Große Probe
DESCRIPTION:
URL:https://solling-blaskapelle.de/termin/grosse-probe-9-2-2/
LOCATION:Übungsraum\, Amelither Straße 6\, Uslar-Schönhagen\, 37170
CATEGORIES:Probe
END:VEVENT
BEGIN:VEVENT
DTSTART;TZID=Europe/Berlin:20241112T193000
DTEND;TZID=Europe/Berlin:20241112T213000
DTSTAMP:20260421T093741
CREATED:20241112T134651Z
LAST-MODIFIED:20241112T134731Z
UID:534-1731439800-1731447000@solling-blaskapelle.de
SUMMARY:Große Probe
DESCRIPTION:
URL:https://solling-blaskapelle.de/termin/grosse-probe-9-2-2-2/
LOCATION:Hotel Fröhlich Höche\, Amelither Straße 6\, Uslar-Schönhagen\, 37170\, Deutschland
CATEGORIES:Probe
END:VEVENT
BEGIN:VEVENT
DTSTART;TZID=Europe/Berlin:20241117T090000
DTEND;TZID=Europe/Berlin:20241117T110000
DTSTAMP:20260421T093741
CREATED:20241112T135029Z
LAST-MODIFIED:20241112T141906Z
UID:538-1731834000-1731841200@solling-blaskapelle.de
SUMMARY:Volkstrauertag
DESCRIPTION:
URL:https://solling-blaskapelle.de/termin/volkstrauertag/
LOCATION:Kirche Schönhagen
CATEGORIES:Auftritt
ATTACH;FMTTYPE=image/jpeg:https://solling-blaskapelle.de/wp-content/uploads/2024/11/angel-1507747_640.jpg
END:VEVENT
BEGIN:VEVENT
DTSTART;TZID=Europe/Berlin:20241119T193000
DTEND;TZID=Europe/Berlin:20241119T213000
DTSTAMP:20260421T093741
CREATED:20241112T134831Z
LAST-MODIFIED:20241112T134903Z
UID:536-1732044600-1732051800@solling-blaskapelle.de
SUMMARY:Große Probe
DESCRIPTION:
URL:https://solling-blaskapelle.de/termin/grosse-probe-9-2-2-2-2/
LOCATION:Hotel Fröhlich Höche\, Amelither Straße 6\, Uslar-Schönhagen\, 37170\, Deutschland
CATEGORIES:Probe
END:VEVENT
BEGIN:VEVENT
DTSTART;TZID=Europe/Berlin:20241126T193000
DTEND;TZID=Europe/Berlin:20241126T213000
DTSTAMP:20260421T093741
CREATED:20241112T135154Z
LAST-MODIFIED:20241112T135154Z
UID:541-1732649400-1732656600@solling-blaskapelle.de
SUMMARY:Große Probe
DESCRIPTION:
URL:https://solling-blaskapelle.de/termin/grosse-probe-10/
LOCATION:Übungsraum\, Amelither Straße 6\, Uslar-Schönhagen\, 37170
CATEGORIES:Probe
END:VEVENT
END:VCALENDAR