BEGIN:VCALENDAR
VERSION:2.0
PRODID:-//Solling Blaskapelle Schönhagen - ECPv6.15.20//NONSGML v1.0//EN
CALSCALE:GREGORIAN
METHOD:PUBLISH
X-WR-CALNAME:Solling Blaskapelle Schönhagen
X-ORIGINAL-URL:https://solling-blaskapelle.de
X-WR-CALDESC:Veranstaltungen für Solling Blaskapelle Schönhagen
REFRESH-INTERVAL;VALUE=DURATION:PT1H
X-Robots-Tag:noindex
X-PUBLISHED-TTL:PT1H
BEGIN:VTIMEZONE
TZID:Europe/Berlin
BEGIN:DAYLIGHT
TZOFFSETFROM:+0100
TZOFFSETTO:+0200
TZNAME:CEST
DTSTART:20240331T010000
END:DAYLIGHT
BEGIN:STANDARD
TZOFFSETFROM:+0200
TZOFFSETTO:+0100
TZNAME:CET
DTSTART:20241027T010000
END:STANDARD
BEGIN:DAYLIGHT
TZOFFSETFROM:+0100
TZOFFSETTO:+0200
TZNAME:CEST
DTSTART:20250330T010000
END:DAYLIGHT
BEGIN:STANDARD
TZOFFSETFROM:+0200
TZOFFSETTO:+0100
TZNAME:CET
DTSTART:20251026T010000
END:STANDARD
BEGIN:DAYLIGHT
TZOFFSETFROM:+0100
TZOFFSETTO:+0200
TZNAME:CEST
DTSTART:20260329T010000
END:DAYLIGHT
BEGIN:STANDARD
TZOFFSETFROM:+0200
TZOFFSETTO:+0100
TZNAME:CET
DTSTART:20261025T010000
END:STANDARD
END:VTIMEZONE
BEGIN:VEVENT
DTSTART;TZID=Europe/Berlin:20250311T193000
DTEND;TZID=Europe/Berlin:20250311T213000
DTSTAMP:20260421T031656
CREATED:20250308T182247Z
LAST-MODIFIED:20250308T182348Z
UID:657-1741721400-1741728600@solling-blaskapelle.de
SUMMARY:Große Probe
DESCRIPTION:
URL:https://solling-blaskapelle.de/termin/grosse-probe-11-2-2-2-2-2-2/
LOCATION:Übungsraum\, Amelither Straße 6\, Uslar-Schönhagen\, 37170
CATEGORIES:Probe
END:VEVENT
BEGIN:VEVENT
DTSTART;TZID=Europe/Berlin:20250318T193000
DTEND;TZID=Europe/Berlin:20250318T213000
DTSTAMP:20260421T031656
CREATED:20250308T182401Z
LAST-MODIFIED:20250308T182432Z
UID:659-1742326200-1742333400@solling-blaskapelle.de
SUMMARY:Große Probe
DESCRIPTION:
URL:https://solling-blaskapelle.de/termin/grosse-probe-11-2-2-2-2-2-2-2/
LOCATION:Übungsraum\, Amelither Straße 6\, Uslar-Schönhagen\, 37170
CATEGORIES:Probe
END:VEVENT
BEGIN:VEVENT
DTSTART;TZID=Europe/Berlin:20250330T110000
DTEND;TZID=Europe/Berlin:20250330T150000
DTSTAMP:20260421T031656
CREATED:20250308T183548Z
LAST-MODIFIED:20250308T185324Z
UID:667-1743332400-1743346800@solling-blaskapelle.de
SUMMARY:Wandertag Silberborn
DESCRIPTION:12. Frühjahrs-Erlebnis-Volkswandertag in Silberborn \nAm Sonntag\, den 30. März findet der 12. Frühjahrs-Erlebnis-Volkswandertag in Silberborn unter dem Motto: „Bewegung in der Natur – Spaß an der Gemeinschaft” statt. \nAnschließend sind alle Teilnehmer bei musikalischer Unterhaltung und Kaffee & Kuchen herzlich in das Dorfgemeinschaftshaus Silberborn zum gemütlichen Ausklang des Wandertages eingeladen.
URL:https://solling-blaskapelle.de/termin/wandertag-silberborn/
LOCATION:DGH Silberborn\, Am Kurgarten 1\, Silberborn\, 37603
CATEGORIES:Auftritt
ATTACH;FMTTYPE=image/jpeg:https://solling-blaskapelle.de/wp-content/uploads/2024/03/Wandern.jpg
END:VEVENT
END:VCALENDAR