BEGIN:VCALENDAR
VERSION:2.0
PRODID:-//Solling Blaskapelle Schönhagen - ECPv6.15.20//NONSGML v1.0//EN
CALSCALE:GREGORIAN
METHOD:PUBLISH
X-WR-CALNAME:Solling Blaskapelle Schönhagen
X-ORIGINAL-URL:https://solling-blaskapelle.de
X-WR-CALDESC:Veranstaltungen für Solling Blaskapelle Schönhagen
REFRESH-INTERVAL;VALUE=DURATION:PT1H
X-Robots-Tag:noindex
X-PUBLISHED-TTL:PT1H
BEGIN:VTIMEZONE
TZID:Europe/Berlin
BEGIN:DAYLIGHT
TZOFFSETFROM:+0100
TZOFFSETTO:+0200
TZNAME:CEST
DTSTART:20240331T010000
END:DAYLIGHT
BEGIN:STANDARD
TZOFFSETFROM:+0200
TZOFFSETTO:+0100
TZNAME:CET
DTSTART:20241027T010000
END:STANDARD
BEGIN:DAYLIGHT
TZOFFSETFROM:+0100
TZOFFSETTO:+0200
TZNAME:CEST
DTSTART:20250330T010000
END:DAYLIGHT
BEGIN:STANDARD
TZOFFSETFROM:+0200
TZOFFSETTO:+0100
TZNAME:CET
DTSTART:20251026T010000
END:STANDARD
BEGIN:DAYLIGHT
TZOFFSETFROM:+0100
TZOFFSETTO:+0200
TZNAME:CEST
DTSTART:20260329T010000
END:DAYLIGHT
BEGIN:STANDARD
TZOFFSETFROM:+0200
TZOFFSETTO:+0100
TZNAME:CET
DTSTART:20261025T010000
END:STANDARD
END:VTIMEZONE
BEGIN:VEVENT
DTSTART;TZID=Europe/Berlin:20250501T110000
DTEND;TZID=Europe/Berlin:20250501T140000
DTSTAMP:20260420T235942
CREATED:20241211T131813Z
LAST-MODIFIED:20241211T132604Z
UID:575-1746097200-1746108000@solling-blaskapelle.de
SUMMARY:Maifest Neuhaus
DESCRIPTION:
URL:https://solling-blaskapelle.de/termin/maifest-neuhaus-2/
LOCATION:Neuhaus im Haus des Gastes\, Lindenstraße 8\, Holzminden Neuhaus\, 37603\, Deutschland
CATEGORIES:Auftritt
ATTACH;FMTTYPE=image/jpeg:https://solling-blaskapelle.de/wp-content/uploads/2024/03/maibaum.jpg
END:VEVENT
BEGIN:VEVENT
DTSTART;TZID=Europe/Berlin:20250517T153000
DTEND;TZID=Europe/Berlin:20250517T183000
DTSTAMP:20260420T235942
CREATED:20250308T184048Z
LAST-MODIFIED:20250308T185532Z
UID:670-1747495800-1747506600@solling-blaskapelle.de
SUMMARY:Kommers MGV St. Joseph Wollbrandshausen
DESCRIPTION:
URL:https://solling-blaskapelle.de/termin/kommers-mgv-st-joseph-wollbrandshausen/
CATEGORIES:Auftritt
ATTACH;FMTTYPE=image/jpeg:https://solling-blaskapelle.de/wp-content/uploads/2023/02/PHOTO-2022-07-24-11-51-27.jpg
END:VEVENT
END:VCALENDAR