BEGIN:VCALENDAR
VERSION:2.0
PRODID:-//Solling Blaskapelle Schönhagen - ECPv6.15.20//NONSGML v1.0//EN
CALSCALE:GREGORIAN
METHOD:PUBLISH
X-ORIGINAL-URL:https://solling-blaskapelle.de
X-WR-CALDESC:Veranstaltungen für Solling Blaskapelle Schönhagen
REFRESH-INTERVAL;VALUE=DURATION:PT1H
X-Robots-Tag:noindex
X-PUBLISHED-TTL:PT1H
BEGIN:VTIMEZONE
TZID:Europe/Berlin
BEGIN:DAYLIGHT
TZOFFSETFROM:+0100
TZOFFSETTO:+0200
TZNAME:CEST
DTSTART:20240331T010000
END:DAYLIGHT
BEGIN:STANDARD
TZOFFSETFROM:+0200
TZOFFSETTO:+0100
TZNAME:CET
DTSTART:20241027T010000
END:STANDARD
BEGIN:DAYLIGHT
TZOFFSETFROM:+0100
TZOFFSETTO:+0200
TZNAME:CEST
DTSTART:20250330T010000
END:DAYLIGHT
BEGIN:STANDARD
TZOFFSETFROM:+0200
TZOFFSETTO:+0100
TZNAME:CET
DTSTART:20251026T010000
END:STANDARD
BEGIN:DAYLIGHT
TZOFFSETFROM:+0100
TZOFFSETTO:+0200
TZNAME:CEST
DTSTART:20260329T010000
END:DAYLIGHT
BEGIN:STANDARD
TZOFFSETFROM:+0200
TZOFFSETTO:+0100
TZNAME:CET
DTSTART:20261025T010000
END:STANDARD
END:VTIMEZONE
BEGIN:VEVENT
DTSTART;TZID=Europe/Berlin:20250621T130000
DTEND;TZID=Europe/Berlin:20250621T170000
DTSTAMP:20260420T222249
CREATED:20250204T110529Z
LAST-MODIFIED:20250604T132100Z
UID:652-1750510800-1750525200@solling-blaskapelle.de
SUMMARY:Mitsommer Fest in Großenbrode Fehmarn
DESCRIPTION:Lasst euch diesen maritimen Ohrenschmaus nicht entgehen! \nDie Blaskapelle Schönhagen\, bekannt für ihre mitreißenden Klänge\, sticht am 21. Juni 2025 in See – und zwar im wahrsten Sinne des Wortes! Ihre Tenöre\, die sonst die Solling-Region beschallen\, tauschen jedes Jahr das Festland gegen die Wellen und segeln unter anderem auch immer mal wieder rund um Fehmarn. \nIn jedem Hafen legen sie an und verwandeln ihr Segelboot in eine schwimmende Bühne. Dieses Jahr machen sie einen ganz besonderen Stopp: \nZum Mitsommer Fest in Großenbrode trifft sich die gesamte Blaskapelle Schönhagen und überquert die “Landesgrenze” (im übertragenen Sinne\, denn die Musik kennt keine Grenzen!) und bringt euch die volle Klangfülle ihrer großen Besetzung direkt an die Küste. \nFreut euch auf ein einzigartiges Erlebnis\, wenn die Blaskapelle Schönhagen mit ihrer Musik die Meeresluft erfüllt! Ein Fest für Ohren und Augen – verpasst es nicht!
URL:https://solling-blaskapelle.de/termin/mitsommer-grossenbrode/
LOCATION:Großenbrode\, Südstrand\, MeerBühne\, Großenbrode\, 23775
CATEGORIES:Auftritt
ATTACH;FMTTYPE=image/jpeg:https://solling-blaskapelle.de/wp-content/uploads/2024/03/Pekermarkt.jpg
END:VEVENT
END:VCALENDAR