BEGIN:VCALENDAR
VERSION:2.0
PRODID:-//Solling Blaskapelle Schönhagen - ECPv6.15.20//NONSGML v1.0//EN
CALSCALE:GREGORIAN
METHOD:PUBLISH
X-WR-CALNAME:Solling Blaskapelle Schönhagen
X-ORIGINAL-URL:https://solling-blaskapelle.de
X-WR-CALDESC:Veranstaltungen für Solling Blaskapelle Schönhagen
REFRESH-INTERVAL;VALUE=DURATION:PT1H
X-Robots-Tag:noindex
X-PUBLISHED-TTL:PT1H
BEGIN:VTIMEZONE
TZID:Europe/Berlin
BEGIN:DAYLIGHT
TZOFFSETFROM:+0100
TZOFFSETTO:+0200
TZNAME:CEST
DTSTART:20240331T010000
END:DAYLIGHT
BEGIN:STANDARD
TZOFFSETFROM:+0200
TZOFFSETTO:+0100
TZNAME:CET
DTSTART:20241027T010000
END:STANDARD
BEGIN:DAYLIGHT
TZOFFSETFROM:+0100
TZOFFSETTO:+0200
TZNAME:CEST
DTSTART:20250330T010000
END:DAYLIGHT
BEGIN:STANDARD
TZOFFSETFROM:+0200
TZOFFSETTO:+0100
TZNAME:CET
DTSTART:20251026T010000
END:STANDARD
BEGIN:DAYLIGHT
TZOFFSETFROM:+0100
TZOFFSETTO:+0200
TZNAME:CEST
DTSTART:20260329T010000
END:DAYLIGHT
BEGIN:STANDARD
TZOFFSETFROM:+0200
TZOFFSETTO:+0100
TZNAME:CET
DTSTART:20261025T010000
END:STANDARD
END:VTIMEZONE
BEGIN:VEVENT
DTSTART;TZID=Europe/Berlin:20250907T110000
DTEND;TZID=Europe/Berlin:20250907T133000
DTSTAMP:20260420T172150
CREATED:20250308T184735Z
LAST-MODIFIED:20260114T105902Z
UID:675-1757242800-1757251800@solling-blaskapelle.de
SUMMARY:Wandertag Neuhaus 2025
DESCRIPTION:
URL:https://solling-blaskapelle.de/termin/wandertag-neuhaus-2/
LOCATION:Neuhaus im Haus des Gastes\, Lindenstraße 8\, Holzminden Neuhaus\, 37603\, Deutschland
CATEGORIES:Auftritt
ATTACH;FMTTYPE=image/jpeg:https://solling-blaskapelle.de/wp-content/uploads/2024/03/Wandern.jpg
END:VEVENT
BEGIN:VEVENT
DTSTART;TZID=Europe/Berlin:20250913T160000
DTEND;TZID=Europe/Berlin:20250913T230000
DTSTAMP:20260420T172150
CREATED:20250308T184858Z
LAST-MODIFIED:20250308T185035Z
UID:677-1757779200-1757804400@solling-blaskapelle.de
SUMMARY:Berge\, Bier und Blasmusik 2025
DESCRIPTION:Am Samstag\, 13.09.2025 werden wir wie in den letzten Jahren einen musikalischen Abend bei schöner Blasmusik veranstalten. \nWeitere Informationen geben wir noch bekannt.
URL:https://solling-blaskapelle.de/termin/berge-bier-und-blasmusik-2-2/
LOCATION:Neuhaus im Haus des Gastes\, Lindenstraße 8\, Holzminden Neuhaus\, 37603\, Deutschland
CATEGORIES:Auftritt
ATTACH;FMTTYPE=image/jpeg:https://solling-blaskapelle.de/wp-content/uploads/2024/03/Berge_Bier_Blasmusik-1-e1711635379412.jpg
END:VEVENT
BEGIN:VEVENT
DTSTART;TZID=Europe/Berlin:20250914T113000
DTEND;TZID=Europe/Berlin:20250914T170000
DTSTAMP:20260420T172150
CREATED:20250604T111224Z
LAST-MODIFIED:20250604T111225Z
UID:691-1757849400-1757869200@solling-blaskapelle.de
SUMMARY:Holenberg Oktoberfest
DESCRIPTION:Das Oktoberfest in Holenberg findet vom 12. bis 14. September 2025 statt. Wir werden am 14.09.2025 ab ca. 11:30 Uhr dabei sein und euch musikalisch unterhalten.
URL:https://solling-blaskapelle.de/termin/holenberg-oktoberfest/
LOCATION:Holenberg\, Försterei 2\, Holenberg\, 37642\, Germany
CATEGORIES:Auftritt
END:VEVENT
END:VCALENDAR